Workbook

Sheet אישור תברים
A1: בס"ד
D2: תבר"ים לאישור בישיבת מועצה
D3: תאריך: 5.8.26
A4: סידורי | B4: מנהל אגף/מחלקה | C4: תב"ר | D4: שם הפרויקט | E4: הסבר | F4: מקור תקציבי | G4: מסגרת תב"ר מאושר במועצה | H4: תקציב שאושר במשרד הפנים | I4: יתרה לניצול משרד הפנים | J4: בקשה להגדלה במועצה נוכחית | K4: סה"כ תקציב מבוקש | L4: סה"כ אחוז השתתפות מעודכן
A5: 1 | B5: תחזוקה | C5: 3569 | D5: שיפוצים במוסדות חינוך וציבור | E5: שיפוצים של מבנים במוסדות חינוך וציבור. תב''ר זה הינו חשוב והכרחי היות ונותן מענה מידי לקריאות מוקד, ולעבודות במוסדות חינוך וציבור לפי צורך | F5: קרנות רשות | G5: 20000000 | H5: 19850000 | I5: =G5-H5 -> 150000 | J5: 4000000 | K5: =J5+G5 -> 24000000 | L5: =IF(K7=0,0,K5/K7) -> 1
F6: גורמי חוץ | I6: =G6-H6 -> 0 | L6: =IF(K7=0,0,K6/K7) -> 0
F7: סה"כ | G7: =SUM(G5:G6) -> 20000000 | H7: =SUM(H5:H6) -> 19850000 | I7: =G7-H7 -> 150000 | J7: =SUM(J5:J6) -> 4000000 | K7: =SUM(K5:K6) -> 24000000 | L7: =SUM(L5:L6) -> 1
A8: 2 | B8: חינוך | C8: 4167 | D8: שיפוצי קיץ במוסדות חינוך לשנת הלימודים תשפ"ז | E8: שיפוצי מוסדות חינוך לשם היערכות לפתיחת הלימודים + מענק פיס 1064/1083/1084/1085/1131/1135/1136/1137/1141/1143/1144/1231-2026 | F8: קרנות רשות | G8: 7000000 | I8: =G8-H8 -> 7000000 | J8: 8000000 | K8: =J8+G8 -> 15000000 | L8: =IF(K10=0,0,K8/K10) -> 1
F9: גורמי חוץ | I9: =G9-H9 -> 0 | J9: 4450000 | L9: =IF(K10=0,0,K9/K10) -> 0
F10: סה"כ | G10: =SUM(G8:G9) -> 7000000 | H10: =SUM(H8:H9) -> 0 | I10: =G10-H10 -> 7000000 | J10: =SUM(J8:J9) -> 12450000 | K10: =SUM(K8:K9) -> 15000000 | L10: =SUM(L8:L9) -> 1
A11: 3 | B11: הלר | C11: 4178 | D11: גינת יום הולדת | E11: מענק פיס 1088/2026 | F11: קרנות רשות | G11: 750000 | I11: =G11-H11 -> 750000 | K11: =J11+G11 -> 750000 | L11: =IF(K13=0,0,K11/K13) -> 0.2173913
F12: גורמי חוץ | G12: 2000000 | H12: 2000000 | I12: =G12-H12 -> 0 | J12: 700000 | K12: =J12+G12 -> 2700000 | L12: =IF(K13=0,0,K12/K13) -> 0.7826087
F13: סה"כ | G13: =SUM(G11:G12) -> 2750000 | H13: =SUM(H11:H12) -> 2000000 | I13: =G13-H13 -> 750000 | J13: =SUM(J11:J12) -> 700000 | K13: =SUM(K11:K12) -> 3450000 | L13: =SUM(L11:L12) -> 1
A14: 4 | B14: חינוך | C14: 4148 | D14: הצטיידות והיערכות למוסדות חינוך | E14: מענק פיס 1134/2026 | F14: קרנות רשות | I14: =G14-H14 -> 0 | K14: =J14+G14 -> 0 | L14: =IF(K16=0,0,K14/K16) -> 0
F15: גורמי חוץ | G15: 3000000 | H15: 3000000 | I15: =G15-H15 -> 0 | J15: 3000000 | K15: =J15+G15 -> 6000000 | L15: =IF(K16=0,0,K15/K16) -> 1
F16: סה"כ | G16: =SUM(G14:G15) -> 3000000 | H16: =SUM(H14:H15) -> 3000000 | I16: =G16-H16 -> 0 | J16: =SUM(J14:J15) -> 3000000 | K16: =SUM(K14:K15) -> 6000000 | L16: =SUM(L14:L15) -> 1
A17: 5 | B17: חינוך/הלר | C17: 4122 | D17: מבנים יבילים במוסדות חינוך | E17: התחייבות מ.החינוך 2026890011/2026080131/123/122/111/082 | F17: קרנות רשות | G17: 13000000 | H17: 6150000 | I17: =G17-H17 -> 6850000 | K17: =J17+G17 -> 13000000 | L17: =IF(K19=0,0,K17/K19) -> 0.85190039
F18: גורמי חוץ | I18: =G18-H18 -> 0 | J18: 2260000 | K18: 2260000 | L18: =IF(K19=0,0,K18/K19) -> 0.14809961
F19: סה"כ | G19: =SUM(G17:G18) -> 13000000 | H19: =SUM(H17:H18) -> 6150000 | I19: =G19-H19 -> 6850000 | J19: =SUM(J17:J18) -> 2260000 | K19: =SUM(K17:K18) -> 15260000 | L19: =SUM(L17:L18) -> 1
A20: 6 | B20: הלר | C20: 4170 | D20: מגרש 609 גנ"י | E20: התחייבות מ.החינוך 2026020183 | F20: קרנות רשות | G20: 500000 | I20: =G20-H20 -> 500000 | K20: =J20+G20 -> 500000 | L20: =IF(K22=0,0,K20/K22) -> 0.18115935
F21: גורמי חוץ | I21: =G21-H21 -> 0 | J21: 3888580 | K21: 2260001 | L21: =IF(K22=0,0,K21/K22) -> 0.81884065
F22: סה"כ | G22: =SUM(G20:G21) -> 500000 | H22: =SUM(H20:H21) -> 0 | I22: =G22-H22 -> 500000 | J22: =SUM(J20:J21) -> 3888580 | K22: =SUM(K20:K21) -> 2760001 | L22: =SUM(L20:L21) -> 1
A23: 7 | B23: הלר | C23: 4014 | D23: בי"ס בכור לוי | E23: התחייבות מ.החינוך+2024070102 2026020019 | F23: קרנות רשות | G23: 500000 | I23: =G23-H23 -> 500000 | K23: =J23+G23 -> 500000 | L23: =IF(K25=0,0,K23/K25) -> 0.021318648
F24: גורמי חוץ | G24: 10747104 | H24: 9029400 | I24: =G24-H24 -> 1717704 | J24: 12206541 | K24: =G24+J24 -> 22953645 | L24: =IF(K25=0,0,K24/K25) -> 0.97868135
F25: סה"כ | G25: =SUM(G23:G24) -> 11247104 | H25: =SUM(H23:H24) -> 9029400 | I25: =G25-H25 -> 2217704 | J25: =SUM(J23:J24) -> 12206541 | K25: =SUM(K23:K24) -> 23453645 | L25: =SUM(L23:L24) -> 1
A26: 8 | B26: הלר | C26: 4160 | D26: בי"ס הראי"ה (יבניאלי ) | E26: התחייבות מ.החינוך 2026020062 | F26: קרנות רשות | G26: 281306 | I26: =G26-H26 -> 281306 | K26: =J26+G26 -> 281306 | L26: =IF(K29=0,0,K26/K29) -> 0.022113565
F27: מלוות | G27: 218694 | H27: 218694 | K27: =J27+G27 -> 218694 | L27: =K27/K29 -> 0.017191614
F28: גורמי חוץ | I28: =G28-H28 -> 0 | J28: 12220970 | K28: 12220970 | L28: =IF(K29=0,0,K28/K29) -> 0.96069482
F29: סה"כ | G29: =SUM(G26:G28) -> 500000 | H29: =SUM(H26:H28) -> 218694 | I29: =G29-H29 -> 281306 | J29: =SUM(J26:J28) -> 12220970 | K29: =SUM(K26:K28) -> 12720970 | L29: =SUM(L26:L28) -> 1
J30: =J7+J10+J13+J16+J19+J22+J25+J29 -> 50726091
D33: תוויות שורה | E33: סכום של בקשה להגדלה במועצה נוכחית
D34: גורמי חוץ | E34: 38726091
D35: קרנות רשות | E35: 12000000
D36: סכום כולל | E36: 50726091

Sheet טבלה להדפסה
A1: =[1]גיליון1!A1 -> בס"ד
A2: =[1]גיליון1!B2 -> פרוייקטים בנכללו במסגרת האשראי בסך 110 מ' ( פעימה ראשונה +שנייה )
H3: 5.8.26
A4: פירוט תב״רים
A5: סידורי | B5: תב״ר | C5: שם הפרויקט | D5: מלוות | E5: קרנות רשות | F5: גורמי חוץ | G5: סה״כ תקציב מבוקש | H5: הערות
A6: =[1]גיליון1!A4 -> 1 | B6: =[1]גיליון1!B4 -> 1287 | C6: =[1]גיליון1!C4 -> פיתוח ר.ח.2110 הורוביץ | D6: =[1]גיליון1!E4 -> 767570 | E6: =[1]גיליון1!F5 -> 40900083 | F6: =[1]גיליון1!F6 -> 18332347 | G6: =[1]גיליון1!F7 -> 60000000 | H6: =[1]גיליון1!G4 -> פעימה1+2
A7: =[1]גיליון1!A8 -> 2 | B7: =[1]גיליון1!B8 -> 2879 | C7: =[1]גיליון1!C8 -> איצטדיון עירוני | D7: =[1]גיליון1!E8 -> 11580830 | E7: =[1]גיליון1!F9 -> 98419170 | F7: =[1]גיליון1!F10 -> 48000000 | G7: =[1]גיליון1!F11 -> 158000000 | H7: =[1]גיליון1!G8 -> פעימה 2
A8: =[1]גיליון1!A12 -> 3 | B8: =[1]גיליון1!B12 -> 3015 | C8: =[1]גיליון1!C12 -> פארק תמר ב | D8: =[1]גיליון1!E12 -> 11628614 | E8: =[1]גיליון1!F13 -> 43000000 | F8: =[1]גיליון1!F14 -> 0 | G8: =[1]גיליון1!F15 -> 54628614 | H8: =[1]גיליון1!G12 -> פעימה 1
A9: =[1]גיליון1!A16 -> 4 | B9: =[1]גיליון1!B16 -> 3281 | C9: =[1]גיליון1!C16 -> קריית ההגנה המזרחית ומגורי כהן | D9: =[1]גיליון1!E16 -> 305367 | E9: =[1]גיליון1!F17 -> 0 | F9: =[1]גיליון1!F18 -> 3594559 | G9: =[1]גיליון1!F19 -> 3899926 | H9: =[1]גיליון1!G16 -> פעימה 1
A10: =[1]גיליון1!A20 -> 5 | B10: =[1]גיליון1!B20 -> 3321 | C10: =[1]גיליון1!C20 -> בה"ס למחוננים מקס שיין | D10: =[1]גיליון1!E20 -> 9148979 | E10: =[1]גיליון1!F21 -> 7852200 | F10: =[1]גיליון1!F22 -> 16456777 | G10: =[1]גיליון1!F23 -> 33457956 | H10: =[1]גיליון1!G20 -> פעימה 1+2
A11: =[1]גיליון1!A24 -> 6 | B11: =[1]גיליון1!B24 -> 3361 | C11: =[1]גיליון1!C24 -> מעונות יום חבד | D11: =[1]גיליון1!E24 -> 22884 | E11: =[1]גיליון1!F25 -> 977116 | F11: =[1]גיליון1!F26 -> 3500000 | G11: =[1]גיליון1!F27 -> 4500000 | H11: =[1]גיליון1!G24 -> פעימה 1
A12: =[1]גיליון1!A28 -> 7 | B12: =[1]גיליון1!B28 -> 3363 | C12: =[1]גיליון1!C28 -> מעונות יום גן הפקאן | D12: =[1]גיליון1!E28 -> 2718261 | E12: =[1]גיליון1!F29 -> 6178192 | F12: =[1]גיליון1!F30 -> 4103547 | G12: =[1]גיליון1!F31 -> 13000000 | H12: =[1]גיליון1!G28 -> פעימה 1+2
A13: =[1]גיליון1!A32 -> 8 | B13: =[1]גיליון1!B32 -> 3364 | C13: =[1]גיליון1!C32 -> התייעלות אנרגטית | D13: =[1]גיליון1!E32 -> 339522 | E13: =[1]גיליון1!F33 -> 13184292 | F13: =[1]גיליון1!F34 -> 5773490 | G13: =[1]גיליון1!F35 -> 19297304 | H13: =[1]גיליון1!G32 -> פעימה 1
A14: =[1]גיליון1!A36 -> 9 | B14: =[1]גיליון1!B36 -> 3401 | C14: =[1]גיליון1!C36 -> בה"ס רמת אלון | D14: =[1]גיליון1!E36 -> 358034 | E14: =[1]גיליון1!F37 -> 8448364 | F14: =[1]גיליון1!F38 -> 11493602 | G14: =[1]גיליון1!F39 -> 20300000 | H14: =[1]גיליון1!G36 -> פעימה 2
A15: =[1]גיליון1!A40 -> 10 | B15: =[1]גיליון1!B40 -> 3403 | C15: =[1]גיליון1!C40 -> גנ"י מלצר | D15: =[1]גיליון1!E40 -> 529727 | E15: =[1]גיליון1!F41 -> 2630000 | F15: =[1]גיליון1!F42 -> 3786262 | G15: =[1]גיליון1!F43 -> 6945989 | H15: =[1]גיליון1!G40 -> פעימה 2
A16: =[1]גיליון1!A44 -> 11 | B16: =[1]גיליון1!B44 -> 3426 | C16: =[1]גיליון1!C44 -> שוק עירוני | D16: =[1]גיליון1!E44 -> 5291784 | E16: =[1]גיליון1!F45 -> 34708216 | F16: =[1]גיליון1!F46 -> 5022828 | G16: =[1]גיליון1!F47 -> 45022828 | H16: =[1]גיליון1!G44 -> פעימה 1
A17: =[1]גיליון1!A48 -> 12 | B17: =[1]גיליון1!B48 -> 3430 | C17: =[1]גיליון1!C48 -> מזרח העיר | D17: =[1]גיליון1!E48 -> 1262591 | E17: =[1]גיליון1!F49 -> 13237409 | F17: =[1]גיליון1!F50 -> 0 | G17: =[1]גיליון1!F51 -> 14500000 | H17: =[1]גיליון1!G48 -> פעימה 2
A18: =[1]גיליון1!A52 -> 13 | B18: =[1]גיליון1!B52 -> 3452 | C18: =[1]גיליון1!C52 -> תוכנית אב לניקוז | D18: =[1]גיליון1!E52 -> 200569 | E18: =[1]גיליון1!F53 -> 700000 | F18: =[1]גיליון1!F54 -> 0 | G18: =[1]גיליון1!F55 -> 900569 | H18: =[1]גיליון1!G52 -> פעימה 1
A19: =[1]גיליון1!A56 -> 14 | B19: =[1]גיליון1!B56 -> 3453 | C19: =[1]גיליון1!C56 -> מתחם אצ"ל תכנון תב"ע | D19: =[1]גיליון1!E56 -> 477289 | E19: =[1]גיליון1!F57 -> 2182711 | F19: =[1]גיליון1!F58 -> 0 | G19: =[1]גיליון1!F59 -> 2660000 | H19: =[1]גיליון1!G56 -> פעימה 1+2
A20: =[1]גיליון1!A60 -> 15 | B20: =[1]גיליון1!B60 -> 3488 | C20: =[1]גיליון1!C60 -> גנ"י שקולניק | D20: =[1]גיליון1!E60 -> 8259381 | E20: =[1]גיליון1!F61 -> 2200000 | F20: =[1]גיליון1!F62 -> 8644630 | G20: =[1]גיליון1!F63 -> 19104011 | H20: =[1]גיליון1!G60 -> פעימה 2
A21: =[1]גיליון1!A64 -> 16 | B21: =[1]גיליון1!B64 -> 3495 | C21: =[1]גיליון1!C64 -> אולם ספורט דה שליט | D21: =[1]גיליון1!E64 -> 5113819 | E21: =[1]גיליון1!F65 -> 0 | F21: =[1]גיליון1!F66 -> 13297430 | G21: =[1]גיליון1!F67 -> 18411249 | H21: =[1]גיליון1!G64 -> פעימה 2
A22: =[1]גיליון1!A68 -> 17 | B22: =[1]גיליון1!B68 -> 3500 | C22: =[1]גיליון1!C68 -> שכונת מרמורק | D22: =[1]גיליון1!E68 -> 4376499 | E22: =[1]גיליון1!F69 -> 8123501 | F22: =[1]גיליון1!F70 -> 0 | G22: =[1]גיליון1!F71 -> 12500000 | H22: =[1]גיליון1!G68 -> פעימה 1+2
A23: =[1]גיליון1!A72 -> 18 | B23: =[1]גיליון1!B72 -> 3511 | C23: =[1]גיליון1!C72 -> בה"ס בראשית | D23: =[1]גיליון1!E72 -> 19194182 | E23: =[1]גיליון1!F73 -> 10871000 | F23: =[1]גיליון1!F74 -> 28282253 | G23: =[1]גיליון1!F75 -> 58347435 | H23: =[1]גיליון1!G72 -> פעימה 1+2
A24: =[1]גיליון1!A76 -> 19 | B24: =[1]גיליון1!B76 -> 3532 | C24: =[1]גיליון1!C76 -> מגרש 608 קרית החינוך | D24: =[1]גיליון1!E76 -> 437580 | E24: =[1]גיליון1!F77 -> 1562420 | F24: =[1]גיליון1!F78 -> 1000000 | G24: =[1]גיליון1!F79 -> 3000000 | H24: =[1]גיליון1!G76 -> פעימה 2
A25: =[1]גיליון1!A80 -> 20 | B25: =[1]גיליון1!B80 -> 3546 | C25: =[1]גיליון1!C80 -> רחבת המתנ"ס ק.משה | D25: =[1]גיליון1!E80 -> 1074059 | E25: =[1]גיליון1!F81 -> 0 | F25: =[1]גיליון1!F82 -> 2900000 | G25: =[1]גיליון1!F83 -> 3974059 | H25: =[1]גיליון1!G80 -> פעימה 1
A26: =[1]גיליון1!A84 -> 21 | B26: =[1]גיליון1!B84 -> 3554 | C26: =[1]גיליון1!C84 -> סה"ס סמילנסקי | D26: =[1]גיליון1!E84 -> 139174 | E26: =[1]גיליון1!F85 -> 860826 | F26: =[1]גיליון1!F86 -> 0 | G26: =[1]גיליון1!F87 -> 1000000 | H26: =[1]גיליון1!G84 -> פעימה 2
A27: =[1]גיליון1!A88 -> 22 | B27: =[1]גיליון1!B88 -> 4027 | C27: =[1]גיליון1!C88 -> פארק הדרים | D27: =[1]גיליון1!E88 -> 659222 | E27: =[1]גיליון1!F89 -> 2540778 | F27: =[1]גיליון1!F90 -> 0 | G27: =[1]גיליון1!F91 -> 3200000 | H27: =[1]גיליון1!G88 -> פעימה 2
A28: =[1]גיליון1!A92 -> 23 | B28: =[1]גיליון1!B92 -> 4056 | C28: =[1]גיליון1!C92 -> מגרש 608 חניון תת קרקעי | D28: =[1]גיליון1!E92 -> 1825002 | E28: =[1]גיליון1!F93 -> 1460000 | F28: =[1]גיליון1!F94 -> 0 | G28: =[1]גיליון1!F95 -> 3285002 | H28: =[1]גיליון1!G92 -> פעימה 1+2
A29: =[1]גיליון1!A96 -> 24 | B29: =[1]גיליון1!B96 -> 4057 | C29: =[1]גיליון1!C96 -> חניון גן שייבה | D29: =[1]גיליון1!E96 -> 1424220 | E29: =[1]גיליון1!F97 -> 600000 | F29: =[1]גיליון1!F98 -> 0 | G29: =[1]גיליון1!F99 -> 2024220 | H29: =[1]גיליון1!G96 -> פעימה 2
A30: =[1]גיליון1!A100 -> 25 | B30: =[1]גיליון1!B100 -> 4087 | C30: =[1]גיליון1!C100 -> תב"ע תמר א' | D30: =[1]גיליון1!E100 -> 225557 | E30: =[1]גיליון1!F101 -> 974443 | F30: =[1]גיליון1!F102 -> 0 | G30: =[1]גיליון1!F103 -> 1200000 | H30: =[1]גיליון1!G100 -> פעימה 1
A31: =[1]גיליון1!A104 -> 26 | B31: =[1]גיליון1!B104 -> 4089 | C31: =[1]גיליון1!C104 -> מגרש 605 ק. משה גנ"י | D31: =[1]גיליון1!E104 -> 123425 | E31: =[1]גיליון1!F105 -> 876575 | F31: =[1]גיליון1!F106 -> 0 | G31: =[1]גיליון1!F107 -> 1000000 | H31: =[1]גיליון1!G104 -> פעימה 2
A32: =[1]גיליון1!A108 -> 27 | B32: =[1]גיליון1!B108 -> 4091 | C32: =[1]גיליון1!C108 -> תוכנית אב לצרכי ציבור | D32: =[1]גיליון1!E108 -> 100463 | E32: =[1]גיליון1!F109 -> 299537 | F32: =[1]גיליון1!F110 -> 0 | G32: =[1]גיליון1!F111 -> 400000 | H32: =[1]גיליון1!G108 -> פעימה 2
A33: =[1]גיליון1!A112 -> 28 | B33: =[1]גיליון1!B112 -> 4117 | C33: =[1]גיליון1!C112 -> חניון פארק אתגרי | D33: =[1]גיליון1!E112 -> 395926 | E33: =[1]גיליון1!F113 -> 0 | F33: =[1]גיליון1!F114 -> 772092 | G33: =[1]גיליון1!F115 -> 1168018 | H33: =[1]גיליון1!G112 -> פעימה 2
A34: =[1]גיליון1!A116 -> 29 | B34: =[1]גיליון1!B116 -> 4118 | C34: =[1]גיליון1!C116 -> סקייטפארק | D34: =[1]גיליון1!E116 -> 384441 | E34: =[1]גיליון1!F117 -> 4063594 | F34: =[1]גיליון1!F118 -> 7579065 | G34: =[1]גיליון1!F119 -> 12027100 | H34: =[1]גיליון1!G116 -> פעימה 2
A35: =[1]גיליון1!A120 -> 30 | B35: =[1]גיליון1!B120 -> 4121 | C35: =[1]גיליון1!C120 -> מגרש 612 קרית החינוך 10 גנ"י +48 כיתות | D35: =[1]גיליון1!E120 -> 975245 | E35: =[1]גיליון1!F121 -> 49024755 | F35: =[1]גיליון1!F122 -> 0 | G35: =[1]גיליון1!F123 -> 50000000 | H35: =[1]גיליון1!G120 -> פעימה 2
A36: =[1]גיליון1!A124 -> 31 | B36: =[1]גיליון1!B124 -> 4126 | C36: =[1]גיליון1!C124 -> פארק צפוני | D36: =[1]גיליון1!E124 -> 393039 | E36: =[1]גיליון1!F125 -> 1606961 | F36: =[1]גיליון1!F126 -> 800000 | G36: =[1]גיליון1!F127 -> 2800000 | H36: =[1]גיליון1!G124 -> פעימה 1+2
A37: =[1]גיליון1!A128 -> 32 | B37: =[1]גיליון1!B128 -> 4128 | C37: =[1]גיליון1!C128 -> מגרש כדורגל וייסגל | D37: =[1]גיליון1!E128 -> 197828 | E37: =[1]גיליון1!F129 -> 0 | F37: =[1]גיליון1!F130 -> 3689228 | G37: =[1]גיליון1!F131 -> 3887056 | H37: =[1]גיליון1!G128 -> פעימה שנייה
A38: =[1]גיליון1!A132 -> 33 | B38: =[1]גיליון1!B132 -> 4131 | C38: =[1]גיליון1!C132 -> עבודות משלימות לכבישין וצמתים במרחב האיצטדיון | D38: =[1]גיליון1!E132 -> 9709419 | E38: =[1]גיליון1!F133 -> 581 | F38: =[1]גיליון1!F134 -> 0 | G38: =[1]גיליון1!F135 -> 9710000 | H38: =[1]גיליון1!G132 -> פעימה 1+2
A39: =[1]גיליון1!A136 -> 34 | B39: =[1]גיליון1!B136 -> 4160 | C39: =[1]גיליון1!C136 -> בי"ס הרא"יה (יבניאלי ) | D39: =[1]גיליון1!E136 -> 218694 | E39: =[1]גיליון1!F137 -> 281306 | F39: =[1]גיליון1!F138 -> 0 | G39: =[1]גיליון1!F139 -> 500000 | H39: =[1]גיליון1!G136 -> פעימה 2
A40: =[1]גיליון1!A140 -> 35 | B40: =[1]גיליון1!B140 -> 4161 | C40: =[1]גיליון1!C140 -> תב"ע וייסגל | D40: =[1]גיליון1!E140 -> 140804 | E40: =[1]גיליון1!F141 -> 359196 | F40: =[1]גיליון1!F142 -> 0 | G40: =[1]גיליון1!F143 -> 500000 | H40: =[1]גיליון1!G140 -> פעימה 2
...
